BEGIN:VCALENDAR
VERSION:2.0
PRODID:-//Koko Village - ECPv6.0.5//NONSGML v1.0//EN
CALSCALE:GREGORIAN
METHOD:PUBLISH
X-WR-CALNAME:Koko Village
X-ORIGINAL-URL:https://www.kokovillage.it
X-WR-CALDESC:Eventi per Koko Village
REFRESH-INTERVAL;VALUE=DURATION:PT1H
X-Robots-Tag:noindex
X-PUBLISHED-TTL:PT1H
BEGIN:VTIMEZONE
TZID:UTC
BEGIN:STANDARD
TZOFFSETFROM:+0000
TZOFFSETTO:+0000
TZNAME:UTC
DTSTART:20250101T000000
END:STANDARD
END:VTIMEZONE
BEGIN:VEVENT
DTSTART;VALUE=DATE:20250220
DTEND;VALUE=DATE:20270101
DTSTAMP:20260420T060212
CREATED:20250207T110744Z
LAST-MODIFIED:20260217T091427Z
UID:22157-1740009600-1798761599@www.kokovillage.it
SUMMARY:OSTEOPATIA
DESCRIPTION:OSTEOPATIA al KOKO VILLAGE !! \nDal 20 febbraio si attiva lo studio osteopatico in collaborazione con @larabenelli \nPRENOTA SUBITO LA TUA PRIMA SEDUTA!!
URL:https://www.kokovillage.it/evento/osteopatia/
CATEGORIES:Basket,Beach Tennis,Beach Volley,Corso Basket,Corso Padel,Padel,Palestra
END:VEVENT
END:VCALENDAR