BEGIN:VCALENDAR
VERSION:2.0
PRODID:-//Koko Village - ECPv6.0.5//NONSGML v1.0//EN
CALSCALE:GREGORIAN
METHOD:PUBLISH
X-WR-CALNAME:Koko Village
X-ORIGINAL-URL:https://www.kokovillage.it
X-WR-CALDESC:Eventi per Koko Village
REFRESH-INTERVAL;VALUE=DURATION:PT1H
X-Robots-Tag:noindex
X-PUBLISHED-TTL:PT1H
BEGIN:VTIMEZONE
TZID:UTC
BEGIN:STANDARD
TZOFFSETFROM:+0000
TZOFFSETTO:+0000
TZNAME:UTC
DTSTART:20260101T000000
END:STANDARD
END:VTIMEZONE
BEGIN:VEVENT
DTSTART;VALUE=DATE:20260217
DTEND;VALUE=DATE:20270101
DTSTAMP:20260419T235718
CREATED:20260217T102116Z
LAST-MODIFIED:20260217T102116Z
UID:22236-1771286400-1798761599@www.kokovillage.it
SUMMARY:PALESTRA
DESCRIPTION:         \nLa nostra palestra è sempre attiva con il servizio di personal trailer.\n\nLa seduta può essere fatta singola\, doppia o tripla e durerà 1 ora. \nTutte le attrezzature sono nuove e firmare TECHNOGYM \nPer info e prenotazioni +39 371 616 3624 \n\n\n 
URL:https://www.kokovillage.it/evento/palestra/
CATEGORIES:Basket,Beach Tennis,Beach Volley,Corso Basket,Corso Padel,Evento in arrivo,Padel,Palestra
END:VEVENT
END:VCALENDAR